BEGIN:VCALENDAR
VERSION:2.0
PRODID:-//hacksw/handcal//NONSGML v1.0//EN
CALSCALE:GREGORIAN
BEGIN:VEVENT
DTEND:20210128T080000
UID:69eae779e509b
DTSTAMP:20260424T034601
LOCATION:Virtual Event
DESCRIPTION:https://sonographycanada.ca/event/clinical-teaching-for-the-dms-educator-preceptor
URL;VALUE=URI:https://sonographycanada.ca/event/clinical-teaching-for-the-dms-educator-preceptor
SUMMARY:Clinical Teaching for the DMS Educator/Preceptor
DTSTART:20210128T070000
END:VEVENT
END:VCALENDAR
