BEGIN:VCALENDAR
VERSION:2.0
PRODID:-//hacksw/handcal//NONSGML v1.0//EN
CALSCALE:GREGORIAN
BEGIN:VEVENT
DTEND:20210305T010000
UID:69eaf5e8108a4
DTSTAMP:20260424T044736
LOCATION:Live Webinar
DESCRIPTION:https://sonographycanada.ca/event/breast-cancer-screening-part-2
URL;VALUE=URI:https://sonographycanada.ca/event/breast-cancer-screening-part-2
SUMMARY:Breast Cancer Screening Part 2
DTSTART:20210305T000000
END:VEVENT
END:VCALENDAR
