BEGIN:VCALENDAR
VERSION:2.0
PRODID:-//hacksw/handcal//NONSGML v1.0//EN
CALSCALE:GREGORIAN
BEGIN:VEVENT
DTEND:20230415T164000
UID:69e9a40d114d3
DTSTAMP:20260423T044605
LOCATION:Toronto Marriott Downtown Eaton Centre Hotel as well as Virtually
DESCRIPTION:https://sonographycanada.ca/event/cse-2023-hybrid-annual-echo-weekend-13-to-15-april-2023-25th-silver-anniversary-edition
URL;VALUE=URI:https://sonographycanada.ca/event/cse-2023-hybrid-annual-echo-weekend-13-to-15-april-2023-25th-silver-anniversary-edition
SUMMARY:CSE 2023 Hybrid Annual Echo Weekend -25th Silver Anniversary Edition
DTSTART:20230413T180000
END:VEVENT
END:VCALENDAR
