BEGIN:VCALENDAR
VERSION:2.0
PRODID:-//hacksw/handcal//NONSGML v1.0//EN
CALSCALE:GREGORIAN
BEGIN:VEVENT
DTEND:20260527T130000
UID:69e65ca44d1d8
DTSTAMP:20260420T170436
LOCATION:
DESCRIPTION:https://sonographycanada.ca/event/born-webinar-reimagining-nuchal-translucency-scans
URL;VALUE=URI:https://sonographycanada.ca/event/born-webinar-reimagining-nuchal-translucency-scans
SUMMARY:BORN Webinar: Reimagining Nuchal Translucency Scans
DTSTART:20260527T120000
END:VEVENT
END:VCALENDAR
